BEGIN:VCALENDAR
VERSION:2.0
PRODID:-//jEvents 2.0 for Joomla//EN
CALSCALE:GREGORIAN
METHOD:PUBLISH
BEGIN:VTIMEZONE
TZID:Europe/Berlin
BEGIN:STANDARD
DTSTART:20231029T020000
RDATE:20240331T030000
TZOFFSETFROM:+0200
TZOFFSETTO:+0100
TZNAME:Europe/Berlin CET
END:STANDARD
BEGIN:STANDARD
DTSTART:20241027T020000
RDATE:20250330T030000
TZOFFSETFROM:+0200
TZOFFSETTO:+0100
TZNAME:Europe/Berlin CET
END:STANDARD
BEGIN:STANDARD
DTSTART:20251026T020000
RDATE:20260329T030000
TZOFFSETFROM:+0200
TZOFFSETTO:+0100
TZNAME:Europe/Berlin CET
END:STANDARD
BEGIN:STANDARD
DTSTART:20261025T020000
RDATE:20270328T030000
TZOFFSETFROM:+0200
TZOFFSETTO:+0100
TZNAME:Europe/Berlin CET
END:STANDARD
BEGIN:STANDARD
DTSTART:20271031T020000
RDATE:20280326T030000
TZOFFSETFROM:+0200
TZOFFSETTO:+0100
TZNAME:Europe/Berlin CET
END:STANDARD
BEGIN:STANDARD
DTSTART:20281029T020000
RDATE:20290325T030000
TZOFFSETFROM:+0200
TZOFFSETTO:+0100
TZNAME:Europe/Berlin CET
END:STANDARD
BEGIN:STANDARD
DTSTART:20291028T020000
RDATE:20300331T030000
TZOFFSETFROM:+0200
TZOFFSETTO:+0100
TZNAME:Europe/Berlin CET
END:STANDARD
BEGIN:STANDARD
DTSTART:20301027T020000
RDATE:20310330T030000
TZOFFSETFROM:+0200
TZOFFSETTO:+0100
TZNAME:Europe/Berlin CET
END:STANDARD
BEGIN:STANDARD
DTSTART:20311026T020000
RDATE:20320328T030000
TZOFFSETFROM:+0200
TZOFFSETTO:+0100
TZNAME:Europe/Berlin CET
END:STANDARD
BEGIN:DAYLIGHT
DTSTART:20230404T190000
RDATE:20231029T020000
TZOFFSETFROM:+0100
TZOFFSETTO:+0200
TZNAME:Europe/Berlin CEST
END:DAYLIGHT
BEGIN:DAYLIGHT
DTSTART:20240331T030000
RDATE:20241027T020000
TZOFFSETFROM:+0100
TZOFFSETTO:+0200
TZNAME:Europe/Berlin CEST
END:DAYLIGHT
BEGIN:DAYLIGHT
DTSTART:20250330T030000
RDATE:20251026T020000
TZOFFSETFROM:+0100
TZOFFSETTO:+0200
TZNAME:Europe/Berlin CEST
END:DAYLIGHT
BEGIN:DAYLIGHT
DTSTART:20260329T030000
RDATE:20261025T020000
TZOFFSETFROM:+0100
TZOFFSETTO:+0200
TZNAME:Europe/Berlin CEST
END:DAYLIGHT
BEGIN:DAYLIGHT
DTSTART:20270328T030000
RDATE:20271031T020000
TZOFFSETFROM:+0100
TZOFFSETTO:+0200
TZNAME:Europe/Berlin CEST
END:DAYLIGHT
BEGIN:DAYLIGHT
DTSTART:20280326T030000
RDATE:20281029T020000
TZOFFSETFROM:+0100
TZOFFSETTO:+0200
TZNAME:Europe/Berlin CEST
END:DAYLIGHT
BEGIN:DAYLIGHT
DTSTART:20290325T030000
RDATE:20291028T020000
TZOFFSETFROM:+0100
TZOFFSETTO:+0200
TZNAME:Europe/Berlin CEST
END:DAYLIGHT
BEGIN:DAYLIGHT
DTSTART:20300331T030000
RDATE:20301027T020000
TZOFFSETFROM:+0100
TZOFFSETTO:+0200
TZNAME:Europe/Berlin CEST
END:DAYLIGHT
BEGIN:DAYLIGHT
DTSTART:20310330T030000
RDATE:20311026T020000
TZOFFSETFROM:+0100
TZOFFSETTO:+0200
TZNAME:Europe/Berlin CEST
END:DAYLIGHT
END:VTIMEZONE
BEGIN:VEVENT
UID:cb8fd96d697f10cfbc8f53636398f6df
CATEGORIES:Veranstaltungen
CREATED:20240306T220203
SUMMARY:Jugend in der DDR - Wie war das damals?
LOCATION:Holbornsches Haus\, Rote Straße 34\, Göttingen
URL;VALUE=URI:http://mes2.jlloyd.de/veranstaltungen/eventdetail/267/-/jugend-in-der-ddr-w
 ie-war-das-damals?tmpl=component
DESCRIPTION:Veranstaltung mit Egon Krenz und Hartmut KönigDie Veranstaltung ist der Erö
 ffnungsbeitrag der Marx-Engels-Stiftung zum 75. Geburtstag der DDR. Wir org
 anisieren sie gemeinsam mit der Sozialistischen Deutschen Arbeiterjugend (S
 DAJ). Das hat viele Gründe - vor allem aber einen: Die DDR ist keine Sache 
 der Vergangenheit. Sie ist eine Sache der Zukunft. Die Veranstaltung ist au
 ch eine für Ältere. Sie ist aber vor allem eine für Jüngere - wie die viele
 n jungen Menschen, die sich 1949 aufmachten, ein neues Deutschland zu bauen
  auf den Trümmern des 2. Weltkrieges. \nWer von den heute noch Lebenden aus
  jenen Tagen könnte der heutigigen Jugend besser Rede und Antwort stehen al
 s Egon Krenz, langjähriger Vorsitzender der Freien Deutschen Jugend (FDJ) u
 nd letzter Staatsratsvorsitzender der DDR und Hartmut König, legendärer Sän
 ger des "Oktoberclubs" und Zeitzeuge der Gründung der SDAJ? Also machen sic
 h beide auf den langen Weg von der Ostsee und Berlin nach Göttingen - für E
 uch und uns.\nInhaltlich ist die Veranstaltung von SDAJler aus Göttingen, K
 assel und Hannover in direktem Kontakt zu Egon Krenz und Hartmut König vorb
 ereitet worden. Vorgesehen ist eine Gesprächsrunde und es wird auch Musik a
 us der DDR und für unsere heutigen Kämpfe geben. Es wird ein denkwürdiger A
 bend für alle werden - kommt rechtzeitig und sichert Euch Plätze.\nDer Eint
 ritt ist frei, um Spenden wird gebeten.\n \n Dieser Event wurde importiert 
 von: http://mes2.jlloyd.de/veranstaltungen/eventdetail/267/-/jugend-in-der-
 ddr-wie-war-das-damals?tmpl=component (http://mes2.jlloyd.de/veranstaltunge
 n/eventdetail/267/-/jugend-in-der-ddr-wie-war-das-damals?tmpl=component)
X-ALT-DESC;FMTTYPE=text/html:<h5>Veranstaltung mit Egon Krenz und Hartmut König</h5><p>Die Veranstaltung
  ist der Eröffnungsbeitrag der Marx-Engels-Stiftung zum 75. Geburtstag der 
 DDR. Wir organisieren sie gemeinsam mit der Sozialistischen Deutschen Arbei
 terjugend (SDAJ). Das hat viele Gründe - vor allem aber einen: Die DDR ist 
 keine Sache der Vergangenheit. Sie ist eine Sache der Zukunft. Die Veransta
 ltung ist auch eine für Ältere. Sie ist aber vor allem eine für Jüngere - w
 ie die vielen jungen Menschen, die sich 1949 aufmachten, ein neues Deutschl
 and zu bauen auf den Trümmern des 2. Weltkrieges. <br />Wer von den heute n
 och Lebenden aus jenen Tagen könnte der heutigigen Jugend besser Rede und A
 ntwort stehen als Egon Krenz, langjähriger Vorsitzender der Freien Deutsche
 n Jugend (FDJ) und letzter Staatsratsvorsitzender der DDR und Hartmut König
 , legendärer Sänger des "Oktoberclubs" und Zeitzeuge der Gründung der SDAJ?
  Also machen sich beide auf den langen Weg von der Ostsee und Berlin nach G
 öttingen - für Euch und uns.</p><p>Inhaltlich ist die Veranstaltung von SDA
 Jler aus Göttingen, Kassel und Hannover in direktem Kontakt zu Egon Krenz u
 nd Hartmut König vorbereitet worden. Vorgesehen ist eine Gesprächsrunde und
  es wird auch Musik aus der DDR und für unsere heutigen Kämpfe geben. Es wi
 rd ein denkwürdiger Abend für alle werden - kommt rechtzeitig und sichert E
 uch Plätze.</p><p>Der Eintritt ist frei, um Spenden wird gebeten.</p><p> </
 p> <a href="http://mes2.jlloyd.de/veranstaltungen/eventdetail/267/-/jugend-
 in-der-ddr-wie-war-das-damals?tmpl=component">Dieser Event wurde importiert
  von: http://mes2.jlloyd.de/veranstaltungen/eventdetail/267/-/jugend-in-der
 -ddr-wie-war-das-damals?tmpl=component</a>X-EXTRAINFO:Veranstaltung der SDAJ und der Marx-Engels-Stiftung
DTSTAMP:20260421T082828
DTSTART;TZID=Europe/Berlin:20240404T190000
SEQUENCE:0
TRANSP:OPAQUE
END:VEVENT
END:VCALENDAR