BEGIN:VCALENDAR
VERSION:2.0
PRODID:-//jEvents 2.0 for Joomla//EN
CALSCALE:GREGORIAN
METHOD:PUBLISH
BEGIN:VTIMEZONE
TZID:Europe/Berlin
BEGIN:STANDARD
DTSTART:20221030T020000
RDATE:20230326T030000
TZOFFSETFROM:+0200
TZOFFSETTO:+0100
TZNAME:Europe/Berlin CET
END:STANDARD
BEGIN:STANDARD
DTSTART:20231029T020000
RDATE:20240331T030000
TZOFFSETFROM:+0200
TZOFFSETTO:+0100
TZNAME:Europe/Berlin CET
END:STANDARD
BEGIN:STANDARD
DTSTART:20241027T020000
RDATE:20250330T030000
TZOFFSETFROM:+0200
TZOFFSETTO:+0100
TZNAME:Europe/Berlin CET
END:STANDARD
BEGIN:STANDARD
DTSTART:20251026T020000
RDATE:20260329T030000
TZOFFSETFROM:+0200
TZOFFSETTO:+0100
TZNAME:Europe/Berlin CET
END:STANDARD
BEGIN:STANDARD
DTSTART:20261025T020000
RDATE:20270328T030000
TZOFFSETFROM:+0200
TZOFFSETTO:+0100
TZNAME:Europe/Berlin CET
END:STANDARD
BEGIN:STANDARD
DTSTART:20271031T020000
RDATE:20280326T030000
TZOFFSETFROM:+0200
TZOFFSETTO:+0100
TZNAME:Europe/Berlin CET
END:STANDARD
BEGIN:STANDARD
DTSTART:20281029T020000
RDATE:20290325T030000
TZOFFSETFROM:+0200
TZOFFSETTO:+0100
TZNAME:Europe/Berlin CET
END:STANDARD
BEGIN:STANDARD
DTSTART:20291028T020000
RDATE:20300331T030000
TZOFFSETFROM:+0200
TZOFFSETTO:+0100
TZNAME:Europe/Berlin CET
END:STANDARD
BEGIN:STANDARD
DTSTART:20301027T020000
RDATE:20310330T030000
TZOFFSETFROM:+0200
TZOFFSETTO:+0100
TZNAME:Europe/Berlin CET
END:STANDARD
BEGIN:STANDARD
DTSTART:20311026T020000
RDATE:20320328T030000
TZOFFSETFROM:+0200
TZOFFSETTO:+0100
TZNAME:Europe/Berlin CET
END:STANDARD
BEGIN:DAYLIGHT
DTSTART:20221013T110000
RDATE:20221030T020000
TZOFFSETFROM:+0100
TZOFFSETTO:+0200
TZNAME:Europe/Berlin CEST
END:DAYLIGHT
BEGIN:DAYLIGHT
DTSTART:20230326T030000
RDATE:20231029T020000
TZOFFSETFROM:+0100
TZOFFSETTO:+0200
TZNAME:Europe/Berlin CEST
END:DAYLIGHT
BEGIN:DAYLIGHT
DTSTART:20240331T030000
RDATE:20241027T020000
TZOFFSETFROM:+0100
TZOFFSETTO:+0200
TZNAME:Europe/Berlin CEST
END:DAYLIGHT
BEGIN:DAYLIGHT
DTSTART:20250330T030000
RDATE:20251026T020000
TZOFFSETFROM:+0100
TZOFFSETTO:+0200
TZNAME:Europe/Berlin CEST
END:DAYLIGHT
BEGIN:DAYLIGHT
DTSTART:20260329T030000
RDATE:20261025T020000
TZOFFSETFROM:+0100
TZOFFSETTO:+0200
TZNAME:Europe/Berlin CEST
END:DAYLIGHT
BEGIN:DAYLIGHT
DTSTART:20270328T030000
RDATE:20271031T020000
TZOFFSETFROM:+0100
TZOFFSETTO:+0200
TZNAME:Europe/Berlin CEST
END:DAYLIGHT
BEGIN:DAYLIGHT
DTSTART:20280326T030000
RDATE:20281029T020000
TZOFFSETFROM:+0100
TZOFFSETTO:+0200
TZNAME:Europe/Berlin CEST
END:DAYLIGHT
BEGIN:DAYLIGHT
DTSTART:20290325T030000
RDATE:20291028T020000
TZOFFSETFROM:+0100
TZOFFSETTO:+0200
TZNAME:Europe/Berlin CEST
END:DAYLIGHT
BEGIN:DAYLIGHT
DTSTART:20300331T030000
RDATE:20301027T020000
TZOFFSETFROM:+0100
TZOFFSETTO:+0200
TZNAME:Europe/Berlin CEST
END:DAYLIGHT
BEGIN:DAYLIGHT
DTSTART:20310330T030000
RDATE:20311026T020000
TZOFFSETFROM:+0100
TZOFFSETTO:+0200
TZNAME:Europe/Berlin CEST
END:DAYLIGHT
END:VTIMEZONE
BEGIN:VEVENT
UID:6bf02b7a1677951b3150ca2b11322306
CATEGORIES:Veranstaltungen
CREATED:20230316T141013
SUMMARY:Krieg und Musik
LOCATION:Berlin\, ND-Gebäude\, Franz-Mehring-Platz 1
URL;VALUE=URI:http://mes2.jlloyd.de/veranstaltungen/eventdetail/234/-/krieg-und-musik?tmp
 l=component
DESCRIPTION:Wie andere Künste ist Musik von politischen Konflikten nicht unberührt. Die
  Kampagnen gegen angeblich putintreue Dirigenten und Sängerinnen zeigt, wie
  sogar ein oft als abgehoben geltender Bereich wie die klassische Musik im 
 Kriegsfall zum Kampffeld wird. In drei Vorträgen wird gefragt, wie Musik fü
 r den Krieg verwendet wurde und wird, auf welche Weise sie ihre politische 
 Wirkung entfaltet und mit welchen kompositorischen Mitteln sie sich gegen M
 ilitarismus wenden kann.\nKai KöhlerMusik für den Krieg – ein ÜberblickAls 
 es noch keine Funkverbindungen gab, übermittelten Trompetensignale Befehle.
  Märsche und Marschlieder ermuntern erschöpfte Soldaten und sorgen für stra
 ffe Haltung. Vielfach gingen Musikmuster aus der militärischen Praxis in Ku
 nstmusik ein. Programmmusik schilderte siegreiche Schlachten oder sollte zu
 m Kämpfen anregen. Doch auch unpolitische Werke können für den Krieg einges
 etzt werden: Unterhaltungsmusik als Frontertüchtigung, Kunstmusik als vorge
 blicher Beleg eigener kultureller Überlegenheit. Der Vortrag zeigt mit Beis
 pielen aus Geschichte und Gegenwart, wie Musik im Krieg benutzt werden kann
 .\nJane ZahnWie Musik Emotion beeinflusst. Vortrag mit Hörbeispielen und Li
 edernKein Krieg ohne Blasmusik, kein Kriegsfilm ohne Musikkulisse, das hat 
 Gründe. Musik ist nach einer Gesetzmäßigkeit aufgebaut, die der Natur unser
 es Gehirns immanent ist. Daher kann sie unsere Emotionen beeinflussen. Dazu
  gibt Jane Zahn einige Hörbeispiele klassischer und Neuer Musik sowie polit
 ischer Lieder. \nGeorg KlempZwei Wege musikalisch Stellung zu beziehen: Han
 ns Eislers Kriegskantate Op. 65 und das Friedenslied im VergleichDie Themen
  Antimilitarismus und Krieg nehmen in Hanns Eislers Schaffen einen breiten 
 Raum ein. Zwei entgegengesetzte Beispiele dafür sind die 1937 in Zwölftonte
 chnik komponierte Kriegskantate und das 1950 komponierte volksliedhafte Fri
 edenslied. Nach einer analytischen Gegenüberstellung und Einordnung dieser 
 Werke in Eislers Gesamtwerk und theoretisches Denken, soll diskutiert werde
 n, in welchem Verhältnis moderne Kompositionsmittel und Allgemeinverständli
 chkeit stehen, wie das Verhältnis von künstlerischem Fortschritt und politi
 scher Wirksamkeit damals wie heute gefasst werden kann.\nAnmeldung erbeten 
 unter: Marx-Engels-Stiftung@t-online.de (mailto:Marx-Engels-Stiftung@t-onli
 ne.de) oder kaikoehler2001@yahoo.de\n Dieser Event wurde importiert von: ht
 tp://mes2.jlloyd.de/veranstaltungen/eventdetail/234/-/krieg-und-musik?tmpl=
 component (http://mes2.jlloyd.de/veranstaltungen/eventdetail/234/-/krieg-un
 d-musik?tmpl=component)
X-ALT-DESC;FMTTYPE=text/html:<p>Wie andere Künste ist Musik von politischen Konflikten nicht unberührt. 
 Die Kampagnen gegen angeblich putintreue Dirigenten und Sängerinnen zeigt, 
 wie sogar ein oft als abgehoben geltender Bereich wie die klassische Musik 
 im Kriegsfall zum Kampffeld wird. In drei Vorträgen wird gefragt, wie Musik
  für den Krieg verwendet wurde und wird, auf welche Weise sie ihre politisc
 he Wirkung entfaltet und mit welchen kompositorischen Mitteln sie sich gege
 n Militarismus wenden kann.</p><h6>Kai Köhler</h6><h6>Musik für den Krieg –
  ein Überblick</h6><p>Als es noch keine Funkverbindungen gab, übermittelten
  Trompetensignale Befehle. Märsche und Marschlieder ermuntern erschöpfte So
 ldaten und sorgen für straffe Haltung. Vielfach gingen Musikmuster aus der 
 militärischen Praxis in Kunstmusik ein. Programmmusik schilderte siegreiche
  Schlachten oder sollte zum Kämpfen anregen. Doch auch unpolitische Werke k
 önnen für den Krieg eingesetzt werden: Unterhaltungsmusik als Frontertüchti
 gung, Kunstmusik als vorgeblicher Beleg eigener kultureller Überlegenheit. 
 Der Vortrag zeigt mit Beispielen aus Geschichte und Gegenwart, wie Musik im
  Krieg benutzt werden kann.</p><h6>Jane Zahn</h6><h6>Wie Musik Emotion beei
 nflusst. Vortrag mit Hörbeispielen und Liedern</h6><p>Kein Krieg ohne Blasm
 usik, kein Kriegsfilm ohne Musikkulisse, das hat Gründe. Musik ist nach ein
 er Gesetzmäßigkeit aufgebaut, die der Natur unseres Gehirns immanent ist. D
 aher kann sie unsere Emotionen beeinflussen. Dazu gibt Jane Zahn einige Hör
 beispiele klassischer und Neuer Musik sowie politischer Lieder. </p><h6>Geo
 rg Klemp</h6><h6>Zwei Wege musikalisch Stellung zu beziehen: Hanns Eislers 
 Kriegskantate Op. 65 und das Friedenslied im Vergleich</h6><p>Die Themen An
 timilitarismus und Krieg nehmen in Hanns Eislers Schaffen einen breiten Rau
 m ein. Zwei entgegengesetzte Beispiele dafür sind die 1937 in Zwölftontechn
 ik komponierte Kriegskantate und das 1950 komponierte volksliedhafte Friede
 nslied. Nach einer analytischen Gegenüberstellung und Einordnung dieser Wer
 ke in Eislers Gesamtwerk und theoretisches Denken, soll diskutiert werden, 
 in welchem Verhältnis moderne Kompositionsmittel und Allgemeinverständlichk
 eit stehen, wie das Verhältnis von künstlerischem Fortschritt und politisch
 er Wirksamkeit damals wie heute gefasst werden kann.</p><p>Anmeldung erbete
 n unter: <a href="mailto:Marx-Engels-Stiftung@t-online.de">Marx-Engels-Stif
 tung@t-online.de</a> oder <a href="mailto:kaikoehler2001@yahoo.de">kaikoehl
 er2001@yahoo.de</a></p> <a href="http://mes2.jlloyd.de/veranstaltungen/even
 tdetail/234/-/krieg-und-musik?tmpl=component">Dieser Event wurde importiert
  von: http://mes2.jlloyd.de/veranstaltungen/eventdetail/234/-/krieg-und-mus
 ik?tmpl=component</a>DTSTAMP:20260422T125517
DTSTART;TZID=Europe/Berlin:20231014T110000
DTEND;TZID=Europe/Berlin:20231014T170000
SEQUENCE:0
TRANSP:OPAQUE
END:VEVENT
END:VCALENDAR