BEGIN:VCALENDAR
VERSION:2.0
PRODID:-//jEvents 2.0 for Joomla//EN
CALSCALE:GREGORIAN
METHOD:PUBLISH
BEGIN:VTIMEZONE
TZID:Europe/Berlin
BEGIN:STANDARD
DTSTART:20201025T020000
RDATE:20210328T030000
TZOFFSETFROM:+0200
TZOFFSETTO:+0100
TZNAME:Europe/Berlin CET
END:STANDARD
BEGIN:STANDARD
DTSTART:20211031T020000
RDATE:20220327T030000
TZOFFSETFROM:+0200
TZOFFSETTO:+0100
TZNAME:Europe/Berlin CET
END:STANDARD
BEGIN:STANDARD
DTSTART:20221030T020000
RDATE:20230326T030000
TZOFFSETFROM:+0200
TZOFFSETTO:+0100
TZNAME:Europe/Berlin CET
END:STANDARD
BEGIN:STANDARD
DTSTART:20231029T020000
RDATE:20240331T030000
TZOFFSETFROM:+0200
TZOFFSETTO:+0100
TZNAME:Europe/Berlin CET
END:STANDARD
BEGIN:STANDARD
DTSTART:20241027T020000
RDATE:20250330T030000
TZOFFSETFROM:+0200
TZOFFSETTO:+0100
TZNAME:Europe/Berlin CET
END:STANDARD
BEGIN:STANDARD
DTSTART:20251026T020000
RDATE:20260329T030000
TZOFFSETFROM:+0200
TZOFFSETTO:+0100
TZNAME:Europe/Berlin CET
END:STANDARD
BEGIN:STANDARD
DTSTART:20261025T020000
RDATE:20270328T030000
TZOFFSETFROM:+0200
TZOFFSETTO:+0100
TZNAME:Europe/Berlin CET
END:STANDARD
BEGIN:STANDARD
DTSTART:20271031T020000
RDATE:20280326T030000
TZOFFSETFROM:+0200
TZOFFSETTO:+0100
TZNAME:Europe/Berlin CET
END:STANDARD
BEGIN:STANDARD
DTSTART:20281029T020000
RDATE:20290325T030000
TZOFFSETFROM:+0200
TZOFFSETTO:+0100
TZNAME:Europe/Berlin CET
END:STANDARD
BEGIN:STANDARD
DTSTART:20291028T020000
RDATE:20300331T030000
TZOFFSETFROM:+0200
TZOFFSETTO:+0100
TZNAME:Europe/Berlin CET
END:STANDARD
BEGIN:STANDARD
DTSTART:20301027T020000
RDATE:20310330T030000
TZOFFSETFROM:+0200
TZOFFSETTO:+0100
TZNAME:Europe/Berlin CET
END:STANDARD
BEGIN:STANDARD
DTSTART:20311026T020000
RDATE:20320328T030000
TZOFFSETFROM:+0200
TZOFFSETTO:+0100
TZNAME:Europe/Berlin CET
END:STANDARD
BEGIN:DAYLIGHT
DTSTART:20201017T190000
RDATE:20201025T020000
TZOFFSETFROM:+0100
TZOFFSETTO:+0200
TZNAME:Europe/Berlin CEST
END:DAYLIGHT
BEGIN:DAYLIGHT
DTSTART:20210328T030000
RDATE:20211031T020000
TZOFFSETFROM:+0100
TZOFFSETTO:+0200
TZNAME:Europe/Berlin CEST
END:DAYLIGHT
BEGIN:DAYLIGHT
DTSTART:20220327T030000
RDATE:20221030T020000
TZOFFSETFROM:+0100
TZOFFSETTO:+0200
TZNAME:Europe/Berlin CEST
END:DAYLIGHT
BEGIN:DAYLIGHT
DTSTART:20230326T030000
RDATE:20231029T020000
TZOFFSETFROM:+0100
TZOFFSETTO:+0200
TZNAME:Europe/Berlin CEST
END:DAYLIGHT
BEGIN:DAYLIGHT
DTSTART:20240331T030000
RDATE:20241027T020000
TZOFFSETFROM:+0100
TZOFFSETTO:+0200
TZNAME:Europe/Berlin CEST
END:DAYLIGHT
BEGIN:DAYLIGHT
DTSTART:20250330T030000
RDATE:20251026T020000
TZOFFSETFROM:+0100
TZOFFSETTO:+0200
TZNAME:Europe/Berlin CEST
END:DAYLIGHT
BEGIN:DAYLIGHT
DTSTART:20260329T030000
RDATE:20261025T020000
TZOFFSETFROM:+0100
TZOFFSETTO:+0200
TZNAME:Europe/Berlin CEST
END:DAYLIGHT
BEGIN:DAYLIGHT
DTSTART:20270328T030000
RDATE:20271031T020000
TZOFFSETFROM:+0100
TZOFFSETTO:+0200
TZNAME:Europe/Berlin CEST
END:DAYLIGHT
BEGIN:DAYLIGHT
DTSTART:20280326T030000
RDATE:20281029T020000
TZOFFSETFROM:+0100
TZOFFSETTO:+0200
TZNAME:Europe/Berlin CEST
END:DAYLIGHT
BEGIN:DAYLIGHT
DTSTART:20290325T030000
RDATE:20291028T020000
TZOFFSETFROM:+0100
TZOFFSETTO:+0200
TZNAME:Europe/Berlin CEST
END:DAYLIGHT
BEGIN:DAYLIGHT
DTSTART:20300331T030000
RDATE:20301027T020000
TZOFFSETFROM:+0100
TZOFFSETTO:+0200
TZNAME:Europe/Berlin CEST
END:DAYLIGHT
BEGIN:DAYLIGHT
DTSTART:20310330T030000
RDATE:20311026T020000
TZOFFSETFROM:+0100
TZOFFSETTO:+0200
TZNAME:Europe/Berlin CEST
END:DAYLIGHT
END:VTIMEZONE
BEGIN:VEVENT
UID:1cf8ae8a398dee08d0c35b1a334f9ec6
CATEGORIES:Veranstaltungen
CREATED:20220323T151102
SUMMARY:"China im Visier" (18.10.) und "Chinas Aufstieg und die Folge" (19.10.)
LOCATION:München\, Eine-Welt-Haus\, Schwanthalerstr. 80
URL;VALUE=URI:http://mes2.jlloyd.de/veranstaltungen/eventdetail/20/-/china-im-visier-18-1
 0-und-chinas-aufstieg-und-die-folge-19-10?tmpl=component
DESCRIPTION:<p><i>Veranstaltung der Freidenker München in Zusammenarbeit mit der Marx-E
 ngels-Stiftung, der jw-Leserinitiative München und der DKP München</i></p><
 p>Referent: Jörg Kronauer.</p><p><a href="files/FlugblattKronauer2.pdf" tar
 get="_blank" rel="noopener">Flyer zur Veranstaltung</a></p> <a href="http:/
 /mes2.jlloyd.de/veranstaltungen/eventdetail/20/-/china-im-visier-18-10-und-
 chinas-aufstieg-und-die-folge-19-10?tmpl=component">Dieser Event wurde impo
 rtiert von: http://mes2.jlloyd.de/veranstaltungen/eventdetail/20/-/china-im
 -visier-18-10-und-chinas-aufstieg-und-die-folge-19-10?tmpl=component</a>
X-ALT-DESC;FMTTYPE=text/html:<p><i>Veranstaltung der Freidenker München in Zusammenarbeit mit der Marx-E
 ngels-Stiftung, der jw-Leserinitiative München und der DKP München</i></p><
 p>Referent: Jörg Kronauer.</p><p><a href="http://mes2.jlloyd.de/files/Flugb
 lattKronauer2.pdf" target="_blank" rel="noopener">Flyer zur Veranstaltung</
 a></p> <a href="http://mes2.jlloyd.de/veranstaltungen/eventdetail/20/-/chin
 a-im-visier-18-10-und-chinas-aufstieg-und-die-folge-19-10?tmpl=component">D
 ieser Event wurde importiert von: http://mes2.jlloyd.de/veranstaltungen/eve
 ntdetail/20/-/china-im-visier-18-10-und-chinas-aufstieg-und-die-folge-19-10
 ?tmpl=component</a>DTSTAMP:20260422T100843
DTSTART;TZID=Europe/Berlin:20211018T190000
DTEND;TZID=Europe/Berlin;VALUE=DATE:20211020
SEQUENCE:0
TRANSP:OPAQUE
END:VEVENT
END:VCALENDAR