BEGIN:VCALENDAR
VERSION:2.0
PRODID:-//jEvents 2.0 for Joomla//EN
CALSCALE:GREGORIAN
METHOD:PUBLISH
BEGIN:VTIMEZONE
TZID:Europe/Berlin
BEGIN:STANDARD
DTSTART:20201025T020000
RDATE:20210328T030000
TZOFFSETFROM:+0200
TZOFFSETTO:+0100
TZNAME:Europe/Berlin CET
END:STANDARD
BEGIN:STANDARD
DTSTART:20211031T020000
RDATE:20220327T030000
TZOFFSETFROM:+0200
TZOFFSETTO:+0100
TZNAME:Europe/Berlin CET
END:STANDARD
BEGIN:STANDARD
DTSTART:20221030T020000
RDATE:20230326T030000
TZOFFSETFROM:+0200
TZOFFSETTO:+0100
TZNAME:Europe/Berlin CET
END:STANDARD
BEGIN:STANDARD
DTSTART:20231029T020000
RDATE:20240331T030000
TZOFFSETFROM:+0200
TZOFFSETTO:+0100
TZNAME:Europe/Berlin CET
END:STANDARD
BEGIN:STANDARD
DTSTART:20241027T020000
RDATE:20250330T030000
TZOFFSETFROM:+0200
TZOFFSETTO:+0100
TZNAME:Europe/Berlin CET
END:STANDARD
BEGIN:STANDARD
DTSTART:20251026T020000
RDATE:20260329T030000
TZOFFSETFROM:+0200
TZOFFSETTO:+0100
TZNAME:Europe/Berlin CET
END:STANDARD
BEGIN:STANDARD
DTSTART:20261025T020000
RDATE:20270328T030000
TZOFFSETFROM:+0200
TZOFFSETTO:+0100
TZNAME:Europe/Berlin CET
END:STANDARD
BEGIN:STANDARD
DTSTART:20271031T020000
RDATE:20280326T030000
TZOFFSETFROM:+0200
TZOFFSETTO:+0100
TZNAME:Europe/Berlin CET
END:STANDARD
BEGIN:STANDARD
DTSTART:20281029T020000
RDATE:20290325T030000
TZOFFSETFROM:+0200
TZOFFSETTO:+0100
TZNAME:Europe/Berlin CET
END:STANDARD
BEGIN:STANDARD
DTSTART:20291028T020000
RDATE:20300331T030000
TZOFFSETFROM:+0200
TZOFFSETTO:+0100
TZNAME:Europe/Berlin CET
END:STANDARD
BEGIN:STANDARD
DTSTART:20301027T020000
RDATE:20310330T030000
TZOFFSETFROM:+0200
TZOFFSETTO:+0100
TZNAME:Europe/Berlin CET
END:STANDARD
BEGIN:STANDARD
DTSTART:20311026T020000
RDATE:20320328T030000
TZOFFSETFROM:+0200
TZOFFSETTO:+0100
TZNAME:Europe/Berlin CET
END:STANDARD
BEGIN:DAYLIGHT
DTSTART:20201022T100000
RDATE:20201025T020000
TZOFFSETFROM:+0100
TZOFFSETTO:+0200
TZNAME:Europe/Berlin CEST
END:DAYLIGHT
BEGIN:DAYLIGHT
DTSTART:20210328T030000
RDATE:20211031T020000
TZOFFSETFROM:+0100
TZOFFSETTO:+0200
TZNAME:Europe/Berlin CEST
END:DAYLIGHT
BEGIN:DAYLIGHT
DTSTART:20220327T030000
RDATE:20221030T020000
TZOFFSETFROM:+0100
TZOFFSETTO:+0200
TZNAME:Europe/Berlin CEST
END:DAYLIGHT
BEGIN:DAYLIGHT
DTSTART:20230326T030000
RDATE:20231029T020000
TZOFFSETFROM:+0100
TZOFFSETTO:+0200
TZNAME:Europe/Berlin CEST
END:DAYLIGHT
BEGIN:DAYLIGHT
DTSTART:20240331T030000
RDATE:20241027T020000
TZOFFSETFROM:+0100
TZOFFSETTO:+0200
TZNAME:Europe/Berlin CEST
END:DAYLIGHT
BEGIN:DAYLIGHT
DTSTART:20250330T030000
RDATE:20251026T020000
TZOFFSETFROM:+0100
TZOFFSETTO:+0200
TZNAME:Europe/Berlin CEST
END:DAYLIGHT
BEGIN:DAYLIGHT
DTSTART:20260329T030000
RDATE:20261025T020000
TZOFFSETFROM:+0100
TZOFFSETTO:+0200
TZNAME:Europe/Berlin CEST
END:DAYLIGHT
BEGIN:DAYLIGHT
DTSTART:20270328T030000
RDATE:20271031T020000
TZOFFSETFROM:+0100
TZOFFSETTO:+0200
TZNAME:Europe/Berlin CEST
END:DAYLIGHT
BEGIN:DAYLIGHT
DTSTART:20280326T030000
RDATE:20281029T020000
TZOFFSETFROM:+0100
TZOFFSETTO:+0200
TZNAME:Europe/Berlin CEST
END:DAYLIGHT
BEGIN:DAYLIGHT
DTSTART:20290325T030000
RDATE:20291028T020000
TZOFFSETFROM:+0100
TZOFFSETTO:+0200
TZNAME:Europe/Berlin CEST
END:DAYLIGHT
BEGIN:DAYLIGHT
DTSTART:20300331T030000
RDATE:20301027T020000
TZOFFSETFROM:+0100
TZOFFSETTO:+0200
TZNAME:Europe/Berlin CEST
END:DAYLIGHT
BEGIN:DAYLIGHT
DTSTART:20310330T030000
RDATE:20311026T020000
TZOFFSETFROM:+0100
TZOFFSETTO:+0200
TZNAME:Europe/Berlin CEST
END:DAYLIGHT
END:VTIMEZONE
BEGIN:VEVENT
UID:17f4fff7cba36eafd3dfd860185da622
CATEGORIES:Veranstaltungen
CREATED:20220323T150746
SUMMARY:Polen – Geschichte und Gegenwart
LOCATION:Leipzig\, Villa Davignon\, Friedrich-Ebert-Str. 77
URL;VALUE=URI:http://mes2.jlloyd.de/veranstaltungen/eventdetail/19/-/polen-geschichte-und
 -gegenwart?tmpl=component
DESCRIPTION:<p><i>Marx-Engels-Stiftung in Zusammenarbeit mit der Leipziger Rotfuchs-Gru
 ppe</i></p><p>Es referieren:</p><ul><li>Prof. Dr. Werner Röhr (Berlin): Pol
 en in der Zwischenkriegszeit 1919 - 1939</li><li>Dr. Holger Michael (Erkner
 ):  Der Bürgerkrieg in Polen 1944 - 1948/52</li><li>Reinhard Lauterbach (Po
 znan / PL): Polen heute</li></ul><p><a href="files/20211023_Polen-Geschicht
 e-und-Gegenwart.pdf" target="_blank" rel="noopener">Flyer mit weiteren Info
 rmationen</a></p> <a href="http://mes2.jlloyd.de/veranstaltungen/eventdetai
 l/19/-/polen-geschichte-und-gegenwart?tmpl=component">Dieser Event wurde im
 portiert von: http://mes2.jlloyd.de/veranstaltungen/eventdetail/19/-/polen-
 geschichte-und-gegenwart?tmpl=component</a>
X-ALT-DESC;FMTTYPE=text/html:<p><i>Marx-Engels-Stiftung in Zusammenarbeit mit der Leipziger Rotfuchs-Gru
 ppe</i></p><p>Es referieren:</p><ul><li>Prof. Dr. Werner Röhr (Berlin): Pol
 en in der Zwischenkriegszeit 1919 - 1939</li><li>Dr. Holger Michael (Erkner
 ):  Der Bürgerkrieg in Polen 1944 - 1948/52</li><li>Reinhard Lauterbach (Po
 znan / PL): Polen heute</li></ul><p><a href="http://mes2.jlloyd.de/files/20
 211023_Polen-Geschichte-und-Gegenwart.pdf" target="_blank" rel="noopener">F
 lyer mit weiteren Informationen</a></p> <a href="http://mes2.jlloyd.de/vera
 nstaltungen/eventdetail/19/-/polen-geschichte-und-gegenwart?tmpl=component"
 >Dieser Event wurde importiert von: http://mes2.jlloyd.de/veranstaltungen/e
 ventdetail/19/-/polen-geschichte-und-gegenwart?tmpl=component</a>DTSTAMP:20260422T094807
DTSTART;TZID=Europe/Berlin:20211023T100000
DTEND;TZID=Europe/Berlin:20211023T170000
SEQUENCE:0
TRANSP:OPAQUE
END:VEVENT
END:VCALENDAR