BEGIN:VCALENDAR
VERSION:2.0
PRODID:-//jEvents 2.0 for Joomla//EN
CALSCALE:GREGORIAN
METHOD:PUBLISH
BEGIN:VTIMEZONE
TZID:Europe/Berlin
BEGIN:STANDARD
DTSTART:20220210T110000
RDATE:20220327T030000
TZOFFSETFROM:+0200
TZOFFSETTO:+0100
TZNAME:Europe/Berlin CET
END:STANDARD
BEGIN:STANDARD
DTSTART:20221030T020000
RDATE:20230326T030000
TZOFFSETFROM:+0200
TZOFFSETTO:+0100
TZNAME:Europe/Berlin CET
END:STANDARD
BEGIN:STANDARD
DTSTART:20231029T020000
RDATE:20240331T030000
TZOFFSETFROM:+0200
TZOFFSETTO:+0100
TZNAME:Europe/Berlin CET
END:STANDARD
BEGIN:STANDARD
DTSTART:20241027T020000
RDATE:20250330T030000
TZOFFSETFROM:+0200
TZOFFSETTO:+0100
TZNAME:Europe/Berlin CET
END:STANDARD
BEGIN:STANDARD
DTSTART:20251026T020000
RDATE:20260329T030000
TZOFFSETFROM:+0200
TZOFFSETTO:+0100
TZNAME:Europe/Berlin CET
END:STANDARD
BEGIN:STANDARD
DTSTART:20261025T020000
RDATE:20270328T030000
TZOFFSETFROM:+0200
TZOFFSETTO:+0100
TZNAME:Europe/Berlin CET
END:STANDARD
BEGIN:STANDARD
DTSTART:20271031T020000
RDATE:20280326T030000
TZOFFSETFROM:+0200
TZOFFSETTO:+0100
TZNAME:Europe/Berlin CET
END:STANDARD
BEGIN:STANDARD
DTSTART:20281029T020000
RDATE:20290325T030000
TZOFFSETFROM:+0200
TZOFFSETTO:+0100
TZNAME:Europe/Berlin CET
END:STANDARD
BEGIN:STANDARD
DTSTART:20291028T020000
RDATE:20300331T030000
TZOFFSETFROM:+0200
TZOFFSETTO:+0100
TZNAME:Europe/Berlin CET
END:STANDARD
BEGIN:STANDARD
DTSTART:20301027T020000
RDATE:20310330T030000
TZOFFSETFROM:+0200
TZOFFSETTO:+0100
TZNAME:Europe/Berlin CET
END:STANDARD
BEGIN:STANDARD
DTSTART:20311026T020000
RDATE:20320328T030000
TZOFFSETFROM:+0200
TZOFFSETTO:+0100
TZNAME:Europe/Berlin CET
END:STANDARD
BEGIN:DAYLIGHT
DTSTART:20220327T030000
RDATE:20221030T020000
TZOFFSETFROM:+0100
TZOFFSETTO:+0200
TZNAME:Europe/Berlin CEST
END:DAYLIGHT
BEGIN:DAYLIGHT
DTSTART:20230326T030000
RDATE:20231029T020000
TZOFFSETFROM:+0100
TZOFFSETTO:+0200
TZNAME:Europe/Berlin CEST
END:DAYLIGHT
BEGIN:DAYLIGHT
DTSTART:20240331T030000
RDATE:20241027T020000
TZOFFSETFROM:+0100
TZOFFSETTO:+0200
TZNAME:Europe/Berlin CEST
END:DAYLIGHT
BEGIN:DAYLIGHT
DTSTART:20250330T030000
RDATE:20251026T020000
TZOFFSETFROM:+0100
TZOFFSETTO:+0200
TZNAME:Europe/Berlin CEST
END:DAYLIGHT
BEGIN:DAYLIGHT
DTSTART:20260329T030000
RDATE:20261025T020000
TZOFFSETFROM:+0100
TZOFFSETTO:+0200
TZNAME:Europe/Berlin CEST
END:DAYLIGHT
BEGIN:DAYLIGHT
DTSTART:20270328T030000
RDATE:20271031T020000
TZOFFSETFROM:+0100
TZOFFSETTO:+0200
TZNAME:Europe/Berlin CEST
END:DAYLIGHT
BEGIN:DAYLIGHT
DTSTART:20280326T030000
RDATE:20281029T020000
TZOFFSETFROM:+0100
TZOFFSETTO:+0200
TZNAME:Europe/Berlin CEST
END:DAYLIGHT
BEGIN:DAYLIGHT
DTSTART:20290325T030000
RDATE:20291028T020000
TZOFFSETFROM:+0100
TZOFFSETTO:+0200
TZNAME:Europe/Berlin CEST
END:DAYLIGHT
BEGIN:DAYLIGHT
DTSTART:20300331T030000
RDATE:20301027T020000
TZOFFSETFROM:+0100
TZOFFSETTO:+0200
TZNAME:Europe/Berlin CEST
END:DAYLIGHT
BEGIN:DAYLIGHT
DTSTART:20310330T030000
RDATE:20311026T020000
TZOFFSETFROM:+0100
TZOFFSETTO:+0200
TZNAME:Europe/Berlin CEST
END:DAYLIGHT
END:VTIMEZONE
BEGIN:VEVENT
UID:ab2c65a68500bcb3b265456a65f6068d
CATEGORIES:Veranstaltungen
CREATED:20220721T100424
SUMMARY:Der IV. Weltkongress der Kommunistischen Internationale
LOCATION:Essen\, Hoffnungstr. 18 (Haus der DKP)
URL;VALUE=URI:http://mes2.jlloyd.de/veranstaltungen/eventdetail/177/-/der-iv-weltkongress
 -der-kommunistischen-internationale?tmpl=component
DESCRIPTION:Vermutlich vertippt, meinte ein Genosse, als er über dieses Thema informier
 t wurde; es habe doch wohl „Der VII. Weltkongress“ heißen sollen?\nAber nei
 n, es war kein Verschreiber – die Verwunderung beweist nur: Selbst vielen a
 n der Geschichte der revolutionären Arbeiterbewegung interessierten Mensche
 n, von Fachhistorikern abgesehen, sind sämtliche Weltkongresse außer dem le
 tzten, der 1935 stattfand, völlig aus dem Blick geraten.\nUnd das ist schad
 e; denn alle sieben Weltkongresse können, im Positiven, zuweilen auch im Ne
 gativen, Erfahrungen vermitteln, die für dem Umgang mit Problemen, vor dene
 n heutige Marxistinnen und Marxisten stehen, hilfreich sein.\nFür den 4. Ko
 ngress, eröffnet am 5. November 1922 in Petrograd, dann vom 9. November bis
  zum 5. Dezember fortgesetzt in Moskau, gilt das in ganz besonderem Maße. E
 s war der letzte, an dessen Vorbereitung Lenin beteiligt war und, obwohl sc
 hon schwer erkrankt, bei einer der insgesamt 32 Sitzungen auch sprach: unte
 r dem Generalthema „Fünf Jahre russische Revolution und die Perspektiven de
 r Weltrevolution“ zu Fragen der Neuen Ökonomischen Politik. Und es war ein 
 Kongress, bei dem sehr weitgehende Schlussfolgerungen diskutiert und gezoge
 n wurden aus dem Umstand, dass die Arbeiterklasse in kapitalistischen Haupt
 ländern konfrontiert war mit einer Offensive des Kapitals. Die Machtübertra
 gung an Mussolini in Italien (der „Marsch auf Rom“ hatte wenige Tage vor Be
 ginn des Kongresses stattgefunden) war nur deren extremster politischer Aus
 druck – fast überall waren die ökonomischen wie politische Organisationen d
 er Arbeiterbewegung, anders als unmittelbar nach dem Ende des Weltkriegs, i
 n die Defensive geraten.\nNatürlich können wir nicht alle Fragen ansprechen
 , die bei den Verhandlungen des 4. Weltkongresses eine Rolle spielten – sch
 ließlich umfassen schon die beiden Protokollbände über 1000 engbedruckte Se
 iten. \nIn einem ersten, einleitenden Referat will Hermann Kopp (Düsseldorf
 ) versuchen, den Platz des Kongresses den Platz des IV. Weltkongresses in d
 er Geschichte der kommunistischen Weltbewegung und vor dem Hintergrund der 
 damaligen Entwicklungen zu bestimmen. \nDer zweite Vortrag, von Gerrit Brün
 ing (Bremen), soll eingehen auf die Kontroversen, die es beim und nach dem 
 Kongress um die Politik der KPs in den Hauptländern des Kapitals gab und di
 e praktischen Antworten, die 1923 vor allem in Deutschland  – Stichwort: Ar
 beiterregierungen in Sachsen und Thüringen – aus seinen Beschlüssen gezogen
  wurden. \nIn einem dritten, eher kurzen Beitrag wird Kopp sich befassen mi
 t der Diskussion über das Herangehen an die nationalen Befreiungsbewegungen
  in den Ländern des Trikont (damals genannt: die „orientalische Frage“). \n
 Schließlich wird Hans-Peter Brenner (Bonn) die Ergebnisse des Kongresses un
 tersuchen unter dem Gesichtspunkt, was davon für die heutige politische Arb
 eit fruchtbar gemacht werden kann. \nNoch immer hoffen wir, dass unser Freu
 nd und Genosse Prof. Heinz Karl (Berlin) gesundheitlich in der Lage ist, se
 in geplantes Manuskript zur Rolle von Clara Zetkin auf dem Kongress und in 
 der Komintern bis zu unserer Tagung fertigzustellen; selbst teilnehmen wird
  er leider auf keinen Fall können.\n \nVideoaufzeichnungen der Beiträge \n\
 n Dieser Event wurde importiert von: http://mes2.jlloyd.de/veranstaltungen/
 eventdetail/177/-/der-iv-weltkongress-der-kommunistischen-internationale?tm
 pl=component
X-ALT-DESC;FMTTYPE=text/html:<p>Vermutlich vertippt, meinte ein Genosse, als er über dieses Thema inform
 iert wurde; es habe doch wohl „Der VII. Weltkongress“ heißen sollen?</p><p>
 Aber nein, es war kein Verschreiber – die Verwunderung beweist nur: Selbst 
 vielen an der Geschichte der revolutionären Arbeiterbewegung interessierten
  Menschen, von Fachhistorikern abgesehen, sind sämtliche Weltkongresse auße
 r dem letzten, der 1935 stattfand, völlig aus dem Blick geraten.</p><p>Und 
 das ist schade; denn alle sieben Weltkongresse können, im Positiven, zuweil
 en auch im Negativen, Erfahrungen vermitteln, die für dem Umgang mit Proble
 men, vor denen heutige Marxistinnen und Marxisten stehen, hilfreich sein.</
 p><p>Für den 4. Kongress, eröffnet am 5. November 1922 in Petrograd, dann v
 om 9. November bis zum 5. Dezember fortgesetzt in Moskau, gilt das in ganz 
 besonderem Maße. Es war der letzte, an dessen Vorbereitung Lenin beteiligt 
 war und, obwohl schon schwer erkrankt, bei einer der insgesamt 32 Sitzungen
  auch sprach: unter dem Generalthema „Fünf Jahre russische Revolution und d
 ie Perspektiven der Weltrevolution“ zu Fragen der Neuen Ökonomischen Politi
 k. Und es war ein Kongress, bei dem sehr weitgehende Schlussfolgerungen dis
 kutiert und gezogen wurden aus dem Umstand, dass die Arbeiterklasse in kapi
 talistischen Hauptländern konfrontiert war mit einer Offensive des Kapitals
 . Die Machtübertragung an Mussolini in Italien (der „Marsch auf Rom“ hatte 
 wenige Tage vor Beginn des Kongresses stattgefunden) war nur deren extremst
 er politischer Ausdruck – fast überall waren die ökonomischen wie politisch
 e Organisationen der Arbeiterbewegung, anders als unmittelbar nach dem Ende
  des Weltkriegs, in die Defensive geraten.</p><p>Natürlich können wir nicht
  alle Fragen ansprechen, die bei den Verhandlungen des 4. Weltkongresses ei
 ne Rolle spielten – schließlich umfassen schon die beiden Protokollbände üb
 er 1000 engbedruckte Seiten. </p><p>In einem ersten, einleitenden Referat w
 ill Hermann Kopp (Düsseldorf) versuchen, den Platz des Kongresses den Platz
  des IV. Weltkongresses in der Geschichte der kommunistischen Weltbewegung 
 und vor dem Hintergrund der damaligen Entwicklungen zu bestimmen. </p><p>De
 r zweite Vortrag, von Gerrit Brüning (Bremen), soll eingehen auf die Kontro
 versen, die es beim und nach dem Kongress um die Politik der KPs in den Hau
 ptländern des Kapitals gab und die praktischen Antworten, die 1923 vor alle
 m in Deutschland  – Stichwort: Arbeiterregierungen in Sachsen und Thüringen
  – aus seinen Beschlüssen gezogen wurden. </p><p>In einem dritten, eher kur
 zen Beitrag wird Kopp sich befassen mit der Diskussion über das Herangehen 
 an die nationalen Befreiungsbewegungen in den Ländern des Trikont (damals g
 enannt: die „orientalische Frage“). </p><p>Schließlich wird Hans-Peter Bren
 ner (Bonn) die Ergebnisse des Kongresses untersuchen unter dem Gesichtspunk
 t, was davon für die heutige politische Arbeit fruchtbar gemacht werden kan
 n. </p><p>Noch immer hoffen wir, dass unser Freund und Genosse Prof. Heinz 
 Karl (Berlin) gesundheitlich in der Lage ist, sein geplantes Manuskript zur
  Rolle von Clara Zetkin auf dem Kongress und in der Komintern bis zu unsere
 r Tagung fertigzustellen; selbst teilnehmen wird er leider auf keinen Fall 
 können.</p><p> </p><h5>Videoaufzeichnungen der Beiträge</h5><p> </p><p><ifr
 ame title="Der IV. Weltkongress der Kommunistischen Internationale" src="ht
 tps://video.mxsrv.de/videos/embed/f54750a6-6fa1-408c-b178-c7b2826cd815?titl
 e=0" width="560" height="315" frameborder="0" sandbox="allow-same-origin al
 low-scripts allow-popups" allowfullscreen="allowfullscreen"></iframe></p> <
 a href="http://mes2.jlloyd.de/veranstaltungen/eventdetail/177/-/der-iv-welt
 kongress-der-kommunistischen-internationale?tmpl=component">Dieser Event wu
 rde importiert von: http://mes2.jlloyd.de/veranstaltungen/eventdetail/177/-
 /der-iv-weltkongress-der-kommunistischen-internationale?tmpl=component</a>DTSTAMP:20260422T084226
DTSTART;TZID=Europe/Berlin:20230211T110000
DTEND;TZID=Europe/Berlin:20230211T170000
SEQUENCE:0
TRANSP:OPAQUE
END:VEVENT
END:VCALENDAR