BEGIN:VCALENDAR
VERSION:2.0
PRODID:-//jEvents 2.0 for Joomla//EN
CALSCALE:GREGORIAN
METHOD:PUBLISH
BEGIN:VTIMEZONE
TZID:Europe/Berlin
BEGIN:STANDARD
DTSTART:20201111T173000
RDATE:20210328T030000
TZOFFSETFROM:+0200
TZOFFSETTO:+0100
TZNAME:Europe/Berlin CET
END:STANDARD
BEGIN:STANDARD
DTSTART:20211031T020000
RDATE:20220327T030000
TZOFFSETFROM:+0200
TZOFFSETTO:+0100
TZNAME:Europe/Berlin CET
END:STANDARD
BEGIN:STANDARD
DTSTART:20221030T020000
RDATE:20230326T030000
TZOFFSETFROM:+0200
TZOFFSETTO:+0100
TZNAME:Europe/Berlin CET
END:STANDARD
BEGIN:STANDARD
DTSTART:20231029T020000
RDATE:20240331T030000
TZOFFSETFROM:+0200
TZOFFSETTO:+0100
TZNAME:Europe/Berlin CET
END:STANDARD
BEGIN:STANDARD
DTSTART:20241027T020000
RDATE:20250330T030000
TZOFFSETFROM:+0200
TZOFFSETTO:+0100
TZNAME:Europe/Berlin CET
END:STANDARD
BEGIN:STANDARD
DTSTART:20251026T020000
RDATE:20260329T030000
TZOFFSETFROM:+0200
TZOFFSETTO:+0100
TZNAME:Europe/Berlin CET
END:STANDARD
BEGIN:STANDARD
DTSTART:20261025T020000
RDATE:20270328T030000
TZOFFSETFROM:+0200
TZOFFSETTO:+0100
TZNAME:Europe/Berlin CET
END:STANDARD
BEGIN:STANDARD
DTSTART:20271031T020000
RDATE:20280326T030000
TZOFFSETFROM:+0200
TZOFFSETTO:+0100
TZNAME:Europe/Berlin CET
END:STANDARD
BEGIN:STANDARD
DTSTART:20281029T020000
RDATE:20290325T030000
TZOFFSETFROM:+0200
TZOFFSETTO:+0100
TZNAME:Europe/Berlin CET
END:STANDARD
BEGIN:STANDARD
DTSTART:20291028T020000
RDATE:20300331T030000
TZOFFSETFROM:+0200
TZOFFSETTO:+0100
TZNAME:Europe/Berlin CET
END:STANDARD
BEGIN:STANDARD
DTSTART:20301027T020000
RDATE:20310330T030000
TZOFFSETFROM:+0200
TZOFFSETTO:+0100
TZNAME:Europe/Berlin CET
END:STANDARD
BEGIN:STANDARD
DTSTART:20311026T020000
RDATE:20320328T030000
TZOFFSETFROM:+0200
TZOFFSETTO:+0100
TZNAME:Europe/Berlin CET
END:STANDARD
BEGIN:DAYLIGHT
DTSTART:20210328T030000
RDATE:20211031T020000
TZOFFSETFROM:+0100
TZOFFSETTO:+0200
TZNAME:Europe/Berlin CEST
END:DAYLIGHT
BEGIN:DAYLIGHT
DTSTART:20220327T030000
RDATE:20221030T020000
TZOFFSETFROM:+0100
TZOFFSETTO:+0200
TZNAME:Europe/Berlin CEST
END:DAYLIGHT
BEGIN:DAYLIGHT
DTSTART:20230326T030000
RDATE:20231029T020000
TZOFFSETFROM:+0100
TZOFFSETTO:+0200
TZNAME:Europe/Berlin CEST
END:DAYLIGHT
BEGIN:DAYLIGHT
DTSTART:20240331T030000
RDATE:20241027T020000
TZOFFSETFROM:+0100
TZOFFSETTO:+0200
TZNAME:Europe/Berlin CEST
END:DAYLIGHT
BEGIN:DAYLIGHT
DTSTART:20250330T030000
RDATE:20251026T020000
TZOFFSETFROM:+0100
TZOFFSETTO:+0200
TZNAME:Europe/Berlin CEST
END:DAYLIGHT
BEGIN:DAYLIGHT
DTSTART:20260329T030000
RDATE:20261025T020000
TZOFFSETFROM:+0100
TZOFFSETTO:+0200
TZNAME:Europe/Berlin CEST
END:DAYLIGHT
BEGIN:DAYLIGHT
DTSTART:20270328T030000
RDATE:20271031T020000
TZOFFSETFROM:+0100
TZOFFSETTO:+0200
TZNAME:Europe/Berlin CEST
END:DAYLIGHT
BEGIN:DAYLIGHT
DTSTART:20280326T030000
RDATE:20281029T020000
TZOFFSETFROM:+0100
TZOFFSETTO:+0200
TZNAME:Europe/Berlin CEST
END:DAYLIGHT
BEGIN:DAYLIGHT
DTSTART:20290325T030000
RDATE:20291028T020000
TZOFFSETFROM:+0100
TZOFFSETTO:+0200
TZNAME:Europe/Berlin CEST
END:DAYLIGHT
BEGIN:DAYLIGHT
DTSTART:20300331T030000
RDATE:20301027T020000
TZOFFSETFROM:+0100
TZOFFSETTO:+0200
TZNAME:Europe/Berlin CEST
END:DAYLIGHT
BEGIN:DAYLIGHT
DTSTART:20310330T030000
RDATE:20311026T020000
TZOFFSETFROM:+0100
TZOFFSETTO:+0200
TZNAME:Europe/Berlin CEST
END:DAYLIGHT
END:VTIMEZONE
BEGIN:VEVENT
UID:785ecd813a80cc67202cf7497606ae43
CATEGORIES:Veranstaltungen
CREATED:20220323T145826
SUMMARY:Hegel und der Klimawandel: Zur gesellschaftlichen Relevanz der dialektischen Naturphilosophie
LOCATION:online
URL;VALUE=URI:http://mes2.jlloyd.de/veranstaltungen/eventdetail/16/-/hegel-und-der-klimaw
 andel-zur-gesellschaftlichen-relevanz-der-dialektischen-naturphilosophie?tm
 pl=component
DESCRIPTION:Videokonferenz des Gesprächskreises Dialektik &amp; Materialismus in Zusamm
 enarbeit mit der Marx-Engels-Stiftung\nEs soll gezeigt werden, dass ein von
  Hegel inspiriertes dialektisches Denken dazu in der Lage ist, aktuelle Pro
 bleme der gesellschaftlichen Naturverhältnisse in der angemessenen Komplexi
 tät kritisch zu reflektieren. Dafür ist zum einen die spekulative Dialektik
  als „Denkform“ oder methodisches Rüstzeug verantwortlich, zum anderen die 
 Struktur des Hegelschen Systems, das Natur als eigenen Systemteil kennt, de
 r eben nicht auf Logik oder Geist „reduziert“ werden kann, wie oft irrtümli
 cherweise behauptet wird. Drittens schließlich bietet Hegels genuin philoso
 phische Thematisierung von Natur (um nur sie zu nennen) im Unterschied zur 
 Zugangsweise der Naturwissenschaften einen guten Ausgangspunkt, um eine ang
 emessene Wissenschaftskritik und Fragen der Interdisziplinarität hinreichen
 d reflektiert anzugehen.\nReferent: Dr. Fritz Reusswig, Potsdam-Institut fü
 r Klimafolgenforschung\nDas Seminar wird per Zoom stattfinden.\nAnmeldung u
 nbedingt erforderlich über: post@akdiamat.de\nDie Teilnahme an einem Vorber
 eitungsseminar wird empfohlen.\nKostenbeitrag von 5 Euro, bitte vorab auf d
 as Konto Akdiamat e.V , IBAN: DE47 8306 5408 0004 241010 überweisen.\n Dies
 er Event wurde importiert von: http://mes2.jlloyd.de/veranstaltungen/eventd
 etail/16/-/hegel-und-der-klimawandel-zur-gesellschaftlichen-relevanz-der-di
 alektischen-naturphilosophie?tmpl=component
X-ALT-DESC;FMTTYPE=text/html:<p><em>Videokonferenz des Gesprächskreises Dialektik &amp; Materialismus in
  Zusammenarbeit mit der Marx-Engels-Stiftung</em></p><p>Es soll gezeigt wer
 den, dass ein von Hegel inspiriertes dialektisches Denken dazu in der Lage 
 ist, aktuelle Probleme der gesellschaftlichen Naturverhältnisse in der ange
 messenen Komplexität kritisch zu reflektieren. Dafür ist zum einen die spek
 ulative Dialektik als „Denkform“ oder methodisches Rüstzeug verantwortlich,
  zum anderen die Struktur des Hegelschen Systems, das Natur als eigenen Sys
 temteil kennt, der eben nicht auf Logik oder Geist „reduziert“ werden kann,
  wie oft irrtümlicherweise behauptet wird. Drittens schließlich bietet Hege
 ls genuin philosophische Thematisierung von Natur (um nur sie zu nennen) im
  Unterschied zur Zugangsweise der Naturwissenschaften einen guten Ausgangsp
 unkt, um eine angemessene Wissenschaftskritik und Fragen der Interdisziplin
 arität hinreichend reflektiert anzugehen.</p><p>Referent: Dr. Fritz Reusswi
 g, Potsdam-Institut für Klimafolgenforschung</p><p>Das Seminar wird per Zoo
 m stattfinden.<br />Anmeldung unbedingt erforderlich über: post@akdiamat.de
 <br />Die Teilnahme an einem Vorbereitungsseminar wird empfohlen.<br />Kost
 enbeitrag von 5 Euro, bitte vorab auf das Konto Akdiamat e.V , IBAN: DE47 8
 306 5408 0004 241010 überweisen.</p> <a href="http://mes2.jlloyd.de/veranst
 altungen/eventdetail/16/-/hegel-und-der-klimawandel-zur-gesellschaftlichen-
 relevanz-der-dialektischen-naturphilosophie?tmpl=component">Dieser Event wu
 rde importiert von: http://mes2.jlloyd.de/veranstaltungen/eventdetail/16/-/
 hegel-und-der-klimawandel-zur-gesellschaftlichen-relevanz-der-dialektischen
 -naturphilosophie?tmpl=component</a>DTSTAMP:20260422T100843
DTSTART;TZID=Europe/Berlin:20211112T173000
DTEND;TZID=Europe/Berlin:20211112T193000
SEQUENCE:0
TRANSP:OPAQUE
END:VEVENT
END:VCALENDAR